BEGIN:VCALENDAR
PRODID:-//Google Inc//Google Calendar 70.9054//EN
VERSION:2.0
CALSCALE:GREGORIAN
METHOD:PUBLISH
X-WR-CALNAME:tepapapasquash@gmail.com
X-WR-TIMEZONE:Pacific/Auckland
BEGIN:VTIMEZONE
TZID:Pacific/Auckland
X-LIC-LOCATION:Pacific/Auckland
BEGIN:DAYLIGHT
TZOFFSETFROM:+1200
TZOFFSETTO:+1300
TZNAME:NZDT
DTSTART:19700927T020000
RRULE:FREQ=YEARLY;BYMONTH=9;BYDAY=-1SU
END:DAYLIGHT
BEGIN:STANDARD
TZOFFSETFROM:+1300
TZOFFSETTO:+1200
TZNAME:NZST
DTSTART:19700405T030000
RRULE:FREQ=YEARLY;BYMONTH=4;BYDAY=1SU
END:STANDARD
END:VTIMEZONE
BEGIN:VEVENT
DTSTART:20161201T070000Z
DTEND:20161201T083000Z
DTSTAMP:20170106T015143Z
ORGANIZER;CN=michael.toon@gmail.com:mailto:michael.toon@gmail.com
UID:nl7s3h0dbfdf4a1j6g52utg4ss@google.com
ATTENDEE;CUTYPE=INDIVIDUAL;ROLE=REQ-PARTICIPANT;PARTSTAT=DECLINED;CN=Sanjee
 v Deva;X-NUM-GUESTS=0:mailto:sanjeev.deva@gmail.com
ATTENDEE;CUTYPE=INDIVIDUAL;ROLE=REQ-PARTICIPANT;PARTSTAT=ACCEPTED;CN=tepapa
 pasquash@gmail.com;X-NUM-GUESTS=0:mailto:tepapapasquash@gmail.com
ATTENDEE;CUTYPE=INDIVIDUAL;ROLE=REQ-PARTICIPANT;PARTSTAT=NEEDS-ACTION;CN=Ja
 mie France;X-NUM-GUESTS=0:mailto:jamie.france@gmail.com
ATTENDEE;CUTYPE=INDIVIDUAL;ROLE=REQ-PARTICIPANT;PARTSTAT=ACCEPTED;CN=Michae
 l Toon;X-NUM-GUESTS=0:mailto:michael.toon@gmail.com
ATTENDEE;CUTYPE=INDIVIDUAL;ROLE=REQ-PARTICIPANT;PARTSTAT=ACCEPTED;CN=gareth
  keene;X-NUM-GUESTS=0:mailto:garethnzkeene@gmail.com
ATTENDEE;CUTYPE=INDIVIDUAL;ROLE=REQ-PARTICIPANT;PARTSTAT=DECLINED;CN=itaylo
 r@elogistics.co.nz;X-NUM-GUESTS=0:mailto:itaylor@elogistics.co.nz
ATTENDEE;CUTYPE=INDIVIDUAL;ROLE=REQ-PARTICIPANT;PARTSTAT=DECLINED;CN=Anubha
 v Sathu;X-NUM-GUESTS=0:mailto:anubhavsathu@gmail.com
ATTENDEE;CUTYPE=INDIVIDUAL;ROLE=REQ-PARTICIPANT;PARTSTAT=TENTATIVE;CN=kris.
 maddaford@mainfreight.co.nz;X-NUM-GUESTS=0:mailto:kris.maddaford@mainfreigh
 t.co.nz
ATTENDEE;CUTYPE=INDIVIDUAL;ROLE=REQ-PARTICIPANT;PARTSTAT=ACCEPTED;CN=Stephe
 n Imm;X-NUM-GUESTS=0:mailto:steve.imm@gmail.com
CREATED:20161128T041427Z
DESCRIPTION:Come one come all.\n\nSo far we have Gaz\, Steve and Mike confi
 rmed.  
LAST-MODIFIED:20161129T084407Z
LOCATION:Te Papapa Squash Club\, Olea Rd\, Onehunga\, Auckland 1061\, New Z
 ealand
SEQUENCE:0
STATUS:CONFIRMED
SUMMARY:Te Papapa Squash
TRANSP:OPAQUE
END:VEVENT
BEGIN:VEVENT
DTSTART;VALUE=DATE:20170313
DTEND;VALUE=DATE:20170314
RRULE:FREQ=WEEKLY;COUNT=5;BYDAY=MO
DTSTAMP:20170106T015143Z
UID:bfbomv97p0se13eb6795gbgnkk@google.com
CREATED:20161220T230408Z
DESCRIPTION:
LAST-MODIFIED:20161220T230408Z
LOCATION:
SEQUENCE:0
STATUS:CONFIRMED
SUMMARY:Senior Autumn Interclub
TRANSP:TRANSPARENT
BEGIN:VALARM
ACTION:DISPLAY
DESCRIPTION:This is an event reminder
TRIGGER:-P0DT0H30M0S
END:VALARM
END:VEVENT
BEGIN:VEVENT
DTSTART;VALUE=DATE:20170501
DTEND;VALUE=DATE:20170502
RRULE:FREQ=WEEKLY;COUNT=5;BYDAY=MO
DTSTAMP:20170106T015143Z
UID:87c2o8frtf815itbui8ajrlpsk@google.com
CREATED:20161220T230458Z
DESCRIPTION:
LAST-MODIFIED:20161220T230458Z
LOCATION:
SEQUENCE:0
STATUS:CONFIRMED
SUMMARY:Senior Winter Interclub
TRANSP:TRANSPARENT
BEGIN:VALARM
ACTION:DISPLAY
DESCRIPTION:This is an event reminder
TRIGGER:-P0DT0H30M0S
END:VALARM
END:VEVENT
BEGIN:VEVENT
DTSTART;VALUE=DATE:20170612
DTEND;VALUE=DATE:20170613
RRULE:FREQ=WEEKLY;COUNT=4;BYDAY=MO
DTSTAMP:20170106T015143Z
UID:8271a89hhpth325vcqphjmsub4@google.com
CREATED:20161220T230532Z
DESCRIPTION:
LAST-MODIFIED:20161220T230532Z
LOCATION:
SEQUENCE:0
STATUS:CONFIRMED
SUMMARY:Senior Winter Interclub
TRANSP:TRANSPARENT
BEGIN:VALARM
ACTION:DISPLAY
DESCRIPTION:This is an event reminder
TRIGGER:-P0DT0H30M0S
END:VALARM
END:VEVENT
BEGIN:VEVENT
DTSTART;VALUE=DATE:20170724
DTEND;VALUE=DATE:20170725
RRULE:FREQ=WEEKLY;COUNT=10;BYDAY=MO
EXDATE;VALUE=DATE:20170807
DTSTAMP:20170106T015143Z
UID:h09tuofkte0ea4rk8688p7cr2k@google.com
CREATED:20161220T230626Z
DESCRIPTION:
LAST-MODIFIED:20161220T230626Z
LOCATION:
SEQUENCE:0
STATUS:CONFIRMED
SUMMARY:Senior Winter Interclub Stage 2
TRANSP:TRANSPARENT
BEGIN:VALARM
ACTION:DISPLAY
DESCRIPTION:This is an event reminder
TRIGGER:-P0DT0H30M0S
END:VALARM
END:VEVENT
BEGIN:VEVENT
DTSTART;VALUE=DATE:20171016
DTEND;VALUE=DATE:20171017
RRULE:FREQ=WEEKLY;COUNT=8;BYDAY=MO
EXDATE;VALUE=DATE:20171023
DTSTAMP:20170106T015143Z
UID:uam0ivti3mdjloe3kpoqskju6g@google.com
CREATED:20161220T230723Z
DESCRIPTION:
LAST-MODIFIED:20161220T230723Z
LOCATION:
SEQUENCE:0
STATUS:CONFIRMED
SUMMARY:Senior Spring Interclub
TRANSP:TRANSPARENT
BEGIN:VALARM
ACTION:DISPLAY
DESCRIPTION:This is an event reminder
TRIGGER:-P0DT0H30M0S
END:VALARM
END:VEVENT
BEGIN:VEVENT
DTSTART;VALUE=DATE:20171001
DTEND;VALUE=DATE:20171015
DTSTAMP:20170106T015143Z
UID:k3nqe6e0n4rgqemqiorpioqcg4@google.com
CREATED:20161220T230828Z
DESCRIPTION:
LAST-MODIFIED:20161220T230834Z
LOCATION:
SEQUENCE:0
STATUS:CONFIRMED
SUMMARY:School Holidays
TRANSP:TRANSPARENT
BEGIN:VALARM
ACTION:DISPLAY
DESCRIPTION:This is an event reminder
TRIGGER:-P0DT0H30M0S
END:VALARM
END:VEVENT
BEGIN:VEVENT
DTSTART;VALUE=DATE:20170709
DTEND;VALUE=DATE:20170723
DTSTAMP:20170106T015143Z
UID:b82g81ccr5je6p6te5md947ng0@google.com
CREATED:20161220T230814Z
DESCRIPTION:
LAST-MODIFIED:20161220T230843Z
LOCATION:
SEQUENCE:0
STATUS:CONFIRMED
SUMMARY:School Holidays
TRANSP:TRANSPARENT
BEGIN:VALARM
ACTION:DISPLAY
DESCRIPTION:This is an event reminder
TRIGGER:-P0DT0H30M0S
END:VALARM
END:VEVENT
BEGIN:VEVENT
DTSTART;VALUE=DATE:20170416
DTEND;VALUE=DATE:20170430
DTSTAMP:20170106T015143Z
UID:ljselsfjebu46gb6e1t1bctimg@google.com
CREATED:20161220T230751Z
DESCRIPTION:
LAST-MODIFIED:20161220T230852Z
LOCATION:
SEQUENCE:0
STATUS:CONFIRMED
SUMMARY:School Holidays
TRANSP:TRANSPARENT
BEGIN:VALARM
ACTION:DISPLAY
DESCRIPTION:This is an event reminder
TRIGGER:-P0DT0H30M0S
END:VALARM
END:VEVENT
BEGIN:VEVENT
DTSTART;VALUE=DATE:20170317
DTEND;VALUE=DATE:20170318
DTSTAMP:20170106T015143Z
UID:t1p0l77bbacivumdvjs4pqsje4@google.com
CREATED:20161220T230918Z
DESCRIPTION:
LAST-MODIFIED:20161220T230918Z
LOCATION:
SEQUENCE:0
STATUS:CONFIRMED
SUMMARY:St Patricks Day
TRANSP:TRANSPARENT
BEGIN:VALARM
ACTION:DISPLAY
DESCRIPTION:This is an event reminder
TRIGGER:-P0DT0H30M0S
END:VALARM
END:VEVENT
BEGIN:VEVENT
DTSTART;VALUE=DATE:20170315
DTEND;VALUE=DATE:20170319
DTSTAMP:20170106T015143Z
UID:8r5711rjnkrommg3ku9kg6em4o@google.com
CREATED:20161220T230944Z
DESCRIPTION:
LAST-MODIFIED:20161220T230951Z
LOCATION:
SEQUENCE:0
STATUS:CONFIRMED
SUMMARY:Te Papapa Club Champs
TRANSP:TRANSPARENT
BEGIN:VALARM
ACTION:DISPLAY
DESCRIPTION:This is an event reminder
TRIGGER:-P0DT0H30M0S
END:VALARM
END:VEVENT
BEGIN:VEVENT
DTSTART;VALUE=DATE:20170318
DTEND;VALUE=DATE:20170319
DTSTAMP:20170106T015143Z
UID:sqah3cq7betbbf0n0thp5ngvm0@google.com
CREATED:20161220T230930Z
DESCRIPTION:
LAST-MODIFIED:20161220T230959Z
LOCATION:
SEQUENCE:0
STATUS:CONFIRMED
SUMMARY:Te Papapa Open Day
TRANSP:TRANSPARENT
BEGIN:VALARM
ACTION:DISPLAY
DESCRIPTION:This is an event reminder
TRIGGER:-P0DT0H30M0S
END:VALARM
END:VEVENT
BEGIN:VEVENT
DTSTART;VALUE=DATE:20170201
DTEND;VALUE=DATE:20170202
DTSTAMP:20170106T015143Z
UID:50uehf1le3ul28prnj0mth6mq4@google.com
CREATED:20161220T231022Z
DESCRIPTION:
LAST-MODIFIED:20161220T231022Z
LOCATION:
SEQUENCE:0
STATUS:CONFIRMED
SUMMARY:Membership Renewals Due
TRANSP:TRANSPARENT
BEGIN:VALARM
ACTION:DISPLAY
DESCRIPTION:This is an event reminder
TRIGGER:-P0DT0H30M0S
END:VALARM
END:VEVENT
BEGIN:VEVENT
DTSTART;VALUE=DATE:20170309
DTEND;VALUE=DATE:20170310
RRULE:FREQ=WEEKLY;COUNT=30;BYDAY=TH
DTSTAMP:20170106T015143Z
UID:1o0rsvlei998egioh2ftrchrb4@google.com
CREATED:20161221T023952Z
DESCRIPTION:
LAST-MODIFIED:20161221T024158Z
LOCATION:
SEQUENCE:1
STATUS:CONFIRMED
SUMMARY:Business House begins?
TRANSP:OPAQUE
BEGIN:VALARM
ACTION:DISPLAY
DESCRIPTION:This is an event reminder
TRIGGER:-P0DT0H30M0S
END:VALARM
END:VEVENT
BEGIN:VEVENT
DTSTART;VALUE=DATE:20171025
DTEND;VALUE=DATE:20171029
DTSTAMP:20170106T015143Z
UID:4r7vbjeadaeos940tn50mpa180@google.com
CREATED:20161222T065228Z
DESCRIPTION:
LAST-MODIFIED:20161222T065228Z
LOCATION:
SEQUENCE:0
STATUS:CONFIRMED
SUMMARY:Club Champs and Invitational
TRANSP:TRANSPARENT
BEGIN:VALARM
ACTION:DISPLAY
DESCRIPTION:This is an event reminder
TRIGGER:-P0DT0H30M0S
END:VALARM
END:VEVENT
BEGIN:VEVENT
DTSTART;VALUE=DATE:20170401
DTEND;VALUE=DATE:20170402
DTSTAMP:20170106T015143Z
UID:qecjmpbgp6rdng489940p00vi0@google.com
CREATED:20161222T070546Z
DESCRIPTION:
LAST-MODIFIED:20161222T070546Z
LOCATION:
SEQUENCE:0
STATUS:CONFIRMED
SUMMARY:Working Bee - The Lino Laying
TRANSP:TRANSPARENT
BEGIN:VALARM
ACTION:DISPLAY
DESCRIPTION:This is an event reminder
TRIGGER:-P0DT0H30M0S
END:VALARM
END:VEVENT
END:VCALENDAR
